Workbook
Name _EPS1: '[1]EF. PVOS. POR SOCIO'!$G$41
Name _EPS2: '[1]EF. PVOS. POR SOCIO'!$G$91
Name _EPS3: '[1]EF. PVOS. POR SOCIO'!$G$141
Name _EPS4: '[1]EF. PVOS. POR SOCIO'!$G$191
Name _EPS5: '[1]EF. PVOS. POR SOCIO'!$G$241
Name _EPS6: '[1]EF. PVOS. POR SOCIO'!$G$291
Name _PA99: #REF!
Name _PA99: #REF!
Name _PO2000: #REF!
Name _PO2000: #REF!
Name _VPC98: #REF!
Name _VPC98: #REF!
Name AC: #REF!
Name AC: #REF!
Name ALBARICOQUE: #REF!
Name ALBARICOQUE: #REF!
Name AÑO: [2]DATOS!$D$3
Name AP: #REF!
Name AP: #REF!
Name APE: #REF!
Name APE: #REF!
Name BBBB: #REF!
Name BBBB: #REF!
Name CIRUELA: #REF!
Name CIRUELA: #REF!
Name DATOS_GRAFICOS: #REF!
Name DATOS_GRAFICOS: #REF!
Name dd: [3]Hoja1!#REF!
Name dd: [3]Hoja1!#REF!
Name DFU: #REF!
Name DFU: #REF!
Name E: #REF!
Name E: #REF!
Name ESTHER: #REF!
Name ESTHER: #REF!
Name FO: #REF!
Name FO: #REF!
Name FO2M: '[4]APORT. SOC. FO 2000'!$B$51
Name FOA: #REF!
Name FOA: #REF!
Name FODOS: #REF!
Name FODOS: #REF!
Name FOEU: #REF!
Name FOEU: #REF!
Name FOPU: #REF!
Name FOPU: #REF!
Name GT: #REF!
Name GT: #REF!
Name HJHJ: '[5]PO 2002-2006 + TRIM ADAPT.'!#REF!
Name HJHJ: '[5]PO 2002-2006 + TRIM ADAPT.'!#REF!
Name MELOCOTÓN: #REF!
Name MELOCOTÓN: #REF!
Name NECTARINA: #REF!
Name NECTARINA: #REF!
Name NOM: #REF!
Name NOM: #REF!
Name PARSOCIOS: #REF!
Name PARSOCIOS: #REF!
Name PER: [2]DATOS!$D$2
Name PO: #REF!

Sheet CERTIFICADO VPC-FO2026
A1: PONER EL ANAGRAMA / LOGO DE LA OPFH | F1: PROGRAMA OPERATIVO Y FONDO OPERATIVO DEL AÑO 2027
A3: CERTIFICADO DEL VALOR DE LA PRODUCCIÓN COMERCIALIZADA EN EL PERIODO DE REFERENCIA:
A4: 01/01/2025 - 31/12/2025
A6: ORGANIZACIÓN DE PRODUCTORES:
A7: NIF: | E7: Nº DE REGISTRO OPFH: | G7: ESXXXX
A8: CATEGORÍA DE RECONOCIMIENTO:
A10: D./Dña. | E10: , con NIF número | G10: , en calidad de
C11: de la Organización de Productores arriba referenciada (en adelante "OP") y cuya
A12: representación legal ostento y acredito, bajo mi responsabilidad y a todos los efectos
A14: C E R T I F I C O:
A16: Que el valor de la producción comercializada (en adelante "VPC") de esta OP se ha determinado según lo dispuesto en el Capítulo IV y en el Anexo V del Real Decreto 857/2022, de 11 de octubre, por el que se regulan los fondos y programas operativos de las organizaciones de productores del sector de las frutas y hortalizas y de sus asociaciones en el marco de la intervención sectorial del Plan Estratégico de la Política Agrícola Común, en la Circular de Coordinación nº 31/2024 del FEGA, de 7 de julio de 2024, y de conformidad con lo dispuesto en el artículo 31 del Reglamento Delegado (UE) n.º 2022/126 de la Comisión, de 7 de diciembre de 2021. | I16: Normativa de aplicación
A18: Asimismo y de conformidad con la citada normativa CERTIFICO:
A20: PRIMERO.- Que el periodo de referencia utilizado para determinar el VPC es el último periodo anual contable (12 meses consecutivos) de la OP finalizado antes del 1 de agosto del año anterior a la anualidad del programa operativo que va a financiar el fondo operativo, conforme a lo previsto en el artículo 22 del Real Decreto 857/2022. | I20: Determinación del periodo de referencia
A22: SEGUNDO.- Que no se ha computado en el cálculo del VPC producción alguna procedente de parcelas de regadío de los miembros productores que hayan sido sancionados en firme por la autoridad competente en materia de agua por hacer un uso ilegal de este recurso. | I22: Exclusión, en su caso, de las producciones de parcelas de regadío de MP sancionados en firme.
A24: TERCERO.- Que el VPC se ha obtenido, exclusivamente, de los datos reales que refleja la contabilidad de la OP por la comercialización efectiva, por parte de ésta, de la producción de sus miembros productores, y de la propia OP, durante el tiempo que hayan sido miembros de la misma, dentro del periodo de referencia y de productos comprendidos en la categoría para la que la OP se encontraba reconocida. | I24: Procedencia de las producciones (productos de la categoría de reconocimiento de los miembros productores) y disposición para evitar el doble cómputo en el caso de los miembros productores que abandonen o se incorporen a la OP.
A25: No obstante, en su caso, se incluye en el cálculo el valor de la producción comercializada de los nuevos miembros que se hayan incorporado a la OP y permanezcan en la misma hasta el momento que se presente la solicitud de aprobación de su proyecto de programa operativo o se notifique el fondo operativo de la anualidad siguiente. Dichos nuevos miembros no han pertenecido nunca a una organización de productores y el valor de su producción comercializada de estos nuevos miembros se determina de la misma forma y en el mismo periodo de referencia que el de la OP a la que se incorpora. | I25: VPC de nuevos miembros productores que se incorporen por primera vez a una OP. El VPC de los nuevos miembros de una OP que hayan pertenecido a otras organizaciones no se computará en la nueva organización de la que pasa a formar parte hasta que no se incorpore la producción de dichos nuevos miembros en la contabilidad de la OP como consecuencia de su comercialización por parte de ésta.
A27: CUARTO.- Que el VPC se ha obtenido, a partir de la contabilidad de la OP, utilizando los saldos de las cuentas contables correspondientes al cierre del periodo de referencia, estando todos los asientos contables respaldados por facturas expedidas conforme al Real Decreto 1619/2012, de 30 de noviembre, o por la justificación contable que proceda conforme al Plan General de Contabilidad. | I27: Criterio contable y respaldo de asientos contables con facturas.
A28: En la contabilidad se diferencian las ventas de los productos para los que está reconocida la OP, de los demás productos objeto de su actividad; y dentro de las ventas de los productos para los que está reconocida, se distinguen los productos que proceden de compras a terceros de los que proceden de los miembros productores. | I28: Contabilidad separada para los productos de la categoría de reconocimiento y de las compras a terceros.
A29: Las cuentas anuales que han servido de base para el cálculo del valor de la producción comercializada en el periodo de referencia han sido aprobadas en Asamblea / Junta General (quitar lo que no proceda) celebrada el día xx/xx/2026. | I29: INDICAR ORGANO Y FECHA DE APROBACION DE CUENTAS ANUALES. En caso de que no se hayan aprobado aún dejar constancia de ello.
A31: QUINTO.- Que el VPC ha sido calculado en la posición “salida de la organización de productores”, como producción lista para la comercialización, con exclusión del IVA y de los gastos de transporte interno de la OP (transporte realizado entre el punto centralizado de recogida o de envasado de la OP y el punto de distribución). | I31: Posición general para el cálculo del VPC: fase salida de la OP
A33: SEXTO.- Que en el VPC está incluido, en su caso, el valor económico añadido de la actividad externalizada por la OP a terceros, o a una filial distinta de la definida en los apartados a) y b) del artículo 31.7 del Reglamento Delegado (UE) n.º 2022/126 de la Comisión, de 7 de diciembre de 2021. | I33: VPC correspondiente a alguna actividad externalizada por la OP a terceros o a filiales en las que las acciones o el capital de la filial no pertenece al menos en un 90% a OP´s, AOP´s, organizaciones transnacionales, asociaciones transnacionales OP´s.
A35: SEPTIMO.- Que, en su caso, todo o parte del VPC ha sido calculado a la salida de una asociación de organizaciones de productores (en adelante "AOP") o de una filial que cumpla lo dispuesto en los apartados a) y b) del artículo 31.7 del Reglamento Delegado (UE) n.º 2022/126 de la Comisión, de 7 de diciembre de 2021. En ese caso la OP comunica la siguiente información a la que hace referencia el apartado 4, parte I del Anexo V del Real Decreto 857/2022: | I35: En caso de que el VPC se calcule en la fase salida de una AOP o de una filial en la que al menos el 90% de las acciones o el capital social de la filial pertenece a una o varias organizaciones de productores, asociaciones de organizaciones de productores, o a los miembros productores de las mismas; en este último caso, si actuando de esta forma contribuyen a alcanzar los objetivos enumerados en el artículo 152.1 c) del Reglamento (UE) n.º 1308/2013 del Parlamento Europeo y del Consejo, de 17 de diciembre de 2013
B36: La OP desea calcular todo o parte de su VPC a la salida la filial o de una AOP (SI/NO): | G36: NO | I36: Si la OP indica que "NO" desea calcular el VPC a la salida de la filial o de una AOP, no deberá cumplimentar el resto de información de este apartado.
B37: Indicar "FILIAL" o "AOP", según proceda: | G37: ----
B38: Actividades que realiza la OP con la filial o la AOP: | I38: Datos de las actividades que realizan con la AOP o la filial, bien mediante contratación, o bien tras la venta en firme de la producción, o bien tras la puesta a disposición de la producción.
B39: Razón social de la AOP: | F39: N.º AOP:
B40: Datos de la filial: | C40: Razón social: | F40: NIF:
C41: Dirección: | F41: CP:
C42: Municipio | F42: Provincia:
C43: CA: | F43: Estado miembro:
C44: Email: | F44: Teléfono:
B45: Desglose capital social, en caso de filial: | C45: Nombre titulares | D45: NIF | E45: Nº participaciones | F45: Capital social | G45: % capital social:
G46: =F46/#REF! -> #REF!
G47: =F47/#REF! -> #REF!
G48: =F48/#REF! -> #REF!
C49: TOTAL FILIAL | E49: =SUM(E46:E48) -> 0 | F49: =SUM(F46:F48) -> 0 | G49: =SUM(G46:G48) -> #REF!
B50: Documentación que debe adjuntar la OP en caso de que se calcule todo o parte del VPC a la salida de la AOP o de una filial que cumpla lo dispuesto en los apartados a) y b) del artículo 31.7 del Reglamento Delegado (UE) n.º 2022/126: - Declaración de la filial o de la AOP en la que se compromete a permitir la realización de los controles físicos y administrativos que el órgano competente considere oportunos para comprobar los aspectos relacionados con el valor de la producción comercializada y con la propiedad del capital social en el caso de la filial. - Certificado del valor de la producción comercializada de la filial o de la AOP, correspondiente a la producción aportada por la organización de productores, y el método de cálculo de dicho valor. - En su caso, certificado de la OP relativo a la contribución de la filial, en la que más del 90% de las acciones o del capital social está en manos de los miembros productores de la OP, para alcanzar los objetivos enumerados en el artículo 152.1 c) del Reglamento (UE) n.º 1308/2013 del Parlamento Europeo y del Consejo, de 17 de diciembre de 2013.
A52: OCTAVO.- Que el VPC incluye los valores contables de la producción de frutas y hortalizas para la cual se encuentra reconocida la OP, producida por ella misma y por sus miembros productores, que ha sido comercializada en fresco cumpliendo la correspondiente norma de comercialización, por ella misma. El valor de dicha producción se refiere a producción comercializada como producto fresco, preparado y envasado, listo para su comercialización (producto sometido a limpieza, despiece, pelado, recorte y secado sin transformar). | I52: VPC por la venta de producto en fresco. Cumplimiento de las normas de comercialización por parte de la OP.
A54: NOVENO.- Que en el VPC se incluye, en su caso, el resultado de de aplicar el porcentaje a tanto alzado previsto en el segundo párrafo del artículo 31.2 del Reglamento Delegado (UE) n.º 2022/126 de la Comisión, de 7 de diciembre de 2021, al valor facturado por los productos transformados por la organización de productores, asociación de organizaciones de productores, sus miembros productores o filiales de conformidad con el artículo 31.7 del citado Reglamento Delegado (UE) n.º 2022/126. El importe incluido en el VPC de los productos transformados vendidos por la Entidad, se calcula según el siguiente cuadro: | I54: VPC por la venta de producto transformado
B55: PRODUCTOS TRANSFORMADOS VENDIDOS
...

Sheet Certificado actividad principal
A1: PONER EL ANAGRAMA / LOGO DE LA OPFH | F1: PROGRAMA OPERATIVO Y FONDO OPERATIVO DEL AÑO 2027
A3: CERTIFICADO DEL CUMPLIMIENTO DE LA ACTIVIDAD PRINCIPAL EN EL PERIODO DE REFERENCIA:
A4: =+'CERTIFICADO VPC-FO2026'!A4:G4 -> 01/01/2025 - 31/12/2025
A6: ORGANIZACIÓN DE PRODUCTORES: | E6: =+'CERTIFICADO VPC-FO2026'!E6:G6 -> 0
A7: NIF: | C7: =+'CERTIFICADO VPC-FO2026'!C7:D7 -> 0 | E7: Nº DE REGISTRO OPFH: | G7: =+'CERTIFICADO VPC-FO2026'!G7 -> ESXXXX
A8: CATEGORÍA DE RECONOCIMIENTO: | E8: =+'CERTIFICADO VPC-FO2026'!E8:G8 -> 0
A10: D./Dña. | E10: , con NIF número | G10: , en calidad de
C11: de la Organización de Productores arriba referenciada (en adelante "OP") y cuya
A12: representación legal ostento y acredito, bajo mi responsabilidad y a todos los efectos
A14: C E R T I F I C O:
A16: Que, en el periodo de referencia indicado en el encabezado, el valor económico de las ventas de la OP de productos incluidos en su categoría de reconocimiento procedentes de productores que no son miembros de una organización de productores o de una asociación de organizaciones de productores es inferior al valor de la producción comercializada de la OP, por lo que se cumple el requisito de la actividad principal previsto en el artículo 11.2 del Reglamento Delegado (UE) 2017/891 de la Comisión, de 13 de marzo de 2017.
A17: Los importes de los citados valores son los siguientes:
B18: Valor económico de las ventas de la OP de productos, incluidos en su categoría de reconocimiento, de productores que no son miembros de una organización de productores o de una AOP: (M) | F18: =+'CERTIFICADO VPC-FO2026'!G135*(1-'CERTIFICADO VPC-FO2026'!G97) -> 0
B19: VPC de la OP (€): | F19: =+'CERTIFICADO VPC-FO2026'!G143 -> 0
B20: Diferencia entre el VPC de la OP y el valor económico de las ventas de productos, incluidos en su categoría de reconocimiento, de productores que no son miembros de una OP o de una AOP (€): | F20: =+F19-F18 -> 0
A22: =+'CERTIFICADO VPC-FO2026'!A162 -> Lo que se certifica a los efectos oportunos, en ______________ a __ de __________ de 2026
A24: p p
A29: Fdo.: | B29: =B10 -> 0
A30: EL/LA | B30: =A11 -> 0
